BEGIN:VCALENDAR
VERSION:2.0
PRODID:-//wp-events-plugin.com//6.6.5//EN
BEGIN:VEVENT
UID:0-605@loudandlocal.me
DTSTART;TZID=America/New_York:20260411T190000
DTEND;TZID=America/New_York:20260411T210000
DTSTAMP:20260304T172714Z
URL:https://loudandlocal.me/events/caribbean-night/
SUMMARY:Caribbean Night
DESCRIPTION:Come enjoy a night in the Caribbean with Pan Fried Steel\, a dr
 umming group from Yarmouth. Gather at the Boothbay Harbor Opera House with
  family and friends. Dance the night away or relax by our Tiki bar. Sway t
 o tunes from the islands or kick off  your shoes and dance the conga line
 ! Mud season blues will melt away and spring will bloom from these sweet i
 sland sounds. This is a family friendly event\n\n$10 advanced tickets by c
 alling 207-633-5159 or online at Boothbayoperahouse.com.\n\n$15 tickets at
  door.
ATTACH;FMTTYPE=image/jpeg:https://loudandlocal.me/wp-content/uploads/sites
 /8/2026/02/opera-house.png
LOCATION:The Opera House in Boothbay Harbor\, 86 Townsend Avenue\, Boothbay
  Harbor\, ME\, 04538\, United States
X-APPLE-STRUCTURED-LOCATION;VALUE=URI;X-ADDRESS=86 Townsend Avenue\, Boothb
 ay Harbor\, ME\, 04538\, United States;X-APPLE-RADIUS=100;X-TITLE=The Oper
 a House in Boothbay Harbor:geo:0,0
END:VEVENT
BEGIN:VTIMEZONE
TZID:America/New_York
X-LIC-LOCATION:America/New_York
BEGIN:DAYLIGHT
DTSTART:20260308T030000
TZOFFSETFROM:-0500
TZOFFSETTO:-0400
TZNAME:EDT
END:DAYLIGHT
END:VTIMEZONE
END:VCALENDAR