BEGIN:VCALENDAR
VERSION:2.0
PRODID:-//wp-events-plugin.com//6.6.5//EN
BEGIN:VEVENT
UID:0-657@loudandlocal.me
DTSTART;TZID=America/New_York:20260516T193000
DTEND;TZID=America/New_York:20260516T213000
DTSTAMP:20260415T142018Z
URL:https://loudandlocal.me/events/concerts-for-a-cause-presents-low-lily/
SUMMARY:Concerts for a Cause presents LOW LILY
DESCRIPTION:UUCB Concerts for a Cause presents award-winning folk and roots
  band\, Low Lily\, at the Unitarian Universalist Church of Brunswick on S
 aturday\, May 16 at 7:30 p.m. to raise money for Oasis Free Clinics and Im
 migrant Legal Advocacy Project.\n\nWith an outstanding vocal blend and ins
 trumental prowess\, Low Lily has earned two #1 songs on international folk
  radio and two Independent Music Award wins.  With the energy of fiddle 
 music\, the introspective quality of folk\, the precision of bluegrass\, a
 nd the drive of Americana\, Low Lily combines their individual talents int
 o one stunning soundscape.\n\nAs a special bonus\, Elsie Gawler from the w
 ell-known Gawler Family Band\, will be a supporting act for the show.\n\nT
 ickets are $25 in advance\, $30 at the door\, and $10 for students/childre
 n and will be available at the church office\, Gulf of Maine Books\, or on
 line at ticketstripe.com/lowlily.\n\nFor more information\, see uubrunswic
 k.org/concerts
ATTACH;FMTTYPE=image/jpeg:https://loudandlocal.me/wp-content/uploads/sites
 /8/2026/04/low-lily.png
LOCATION:Unitarian Universalist Church of Brunswick\, 1 Middle Street\, Bru
 nswick\, Maine\, 04011\, Midcoast\, United States
X-APPLE-STRUCTURED-LOCATION;VALUE=URI;X-ADDRESS=1 Middle Street\, Brunswick
 \, Maine\, 04011\, Midcoast\, United States;X-APPLE-RADIUS=100;X-TITLE=Uni
 tarian Universalist Church of Brunswick:geo:0,0
END:VEVENT
BEGIN:VTIMEZONE
TZID:America/New_York
X-LIC-LOCATION:America/New_York
BEGIN:DAYLIGHT
DTSTART:20260308T030000
TZOFFSETFROM:-0500
TZOFFSETTO:-0400
TZNAME:EDT
END:DAYLIGHT
END:VTIMEZONE
END:VCALENDAR