BEGIN:VCALENDAR
VERSION:2.0
PRODID:-//wp-events-plugin.com//6.6.5//EN
BEGIN:VEVENT
UID:0-654@loudandlocal.me
DTSTART;TZID=America/New_York:20260501T180000
DTEND;TZID=America/New_York:20260529T190000
DTSTAMP:20260420T164223Z
URL:https://loudandlocal.me/events/fridays-trivia-in-the-brewhouse-5/
SUMMARY:Fridays: Trivia in the Brewhouse!
DESCRIPTION:Join us for (one hour) Trivia in the brewhouse with our friend 
 Megh. The questions will commence every Friday starting promptly at 6 pm. 
 We recommend arriving early to get settled as missed questions are not rep
 eated.\n\nTickets are free but reservations are strongly recommended as we
 've been packed recently! Walk-ins are not guaranteed a seat\, but we'll a
 bsolutely do our best to squeeze you in\, if we can. If you are making a r
 eservation for your team\, please account for all the members of your team
 . Groups can be up to six players.\n\nBite Into Maine will be here for all
  of your tasty dinner or snacking needs. As always we’ll have delicious 
 beer\, wine\, cider\, and n/a bevs flowing. We can’t wait to see you and
  your fantastic team names! FYI\, as our brewhouse is a food production sp
 ace\, sadly dogs must stay on our covered patio.\n\nThe prizes are: First 
 - $75 gift card Second - Fun merch pack Third - Rotating "prize pack"
ATTACH;FMTTYPE=image/jpeg:https://loudandlocal.me/wp-content/uploads/sites
 /8/2026/04/TRIVIA-2.png
END:VEVENT
BEGIN:VTIMEZONE
TZID:America/New_York
X-LIC-LOCATION:America/New_York
BEGIN:DAYLIGHT
DTSTART:20260308T030000
TZOFFSETFROM:-0500
TZOFFSETTO:-0400
TZNAME:EDT
END:DAYLIGHT
END:VTIMEZONE
END:VCALENDAR