BEGIN:VCALENDAR
VERSION:2.0
PRODID:-//wp-events-plugin.com//6.6.5//EN
BEGIN:VEVENT
UID:0-648@loudandlocal.me
DTSTART;TZID=America/New_York:20260411T180000
DTEND;TZID=America/New_York:20260502T200000
DTSTAMP:20260420T160109Z
URL:https://loudandlocal.me/events/gameday-at-the-allagash-bungalow-hearts
 -of-pine/
SUMMARY:Gameday at The Allagash Bungalow: Hearts of Pine
DESCRIPTION:We will be showing select Hearts of Pine games on the big scree
 n at The Allagash Bungalow. Enjoy $5 pints of Kickabout Lager during the g
 ame! Game schedule below: Sat April 11\, 6 pm vs One Knoxville SC Sun Apri
 l 19\, 3 pm vs FC Naples\nHappens on the following Dates:\n\n 	Apr 11\, 20
 26\, 6:00pm to 8:00pm Timezone: Eastern Time (US &amp\; Canada)\n 	Apr 19\
 , 2026\, 3:00pm to 5:00pm Timezone: Eastern Time (US &amp\; Canada)\n 	May
  2\, 2026\, 5:00pm to 7:00pm Timezone: Eastern Time (US &amp\; Canada)\n
ATTACH;FMTTYPE=image/jpeg:https://loudandlocal.me/wp-content/uploads/sites
 /8/2026/04/gamedya.png
LOCATION:The Allagash Bungalow Scarborough\, 10 Market St\, Scarborough\, M
 aine\, 04074\, Southern Maine\, United States
X-APPLE-STRUCTURED-LOCATION;VALUE=URI;X-ADDRESS=10 Market St\, Scarborough\
 , Maine\, 04074\, Southern Maine\, United States;X-APPLE-RADIUS=100;X-TITL
 E=The Allagash Bungalow Scarborough:geo:0,0
END:VEVENT
BEGIN:VTIMEZONE
TZID:America/New_York
X-LIC-LOCATION:America/New_York
BEGIN:DAYLIGHT
DTSTART:20260308T030000
TZOFFSETFROM:-0500
TZOFFSETTO:-0400
TZNAME:EDT
END:DAYLIGHT
END:VTIMEZONE
END:VCALENDAR