BEGIN:VCALENDAR
VERSION:2.0
PRODID:-//wp-events-plugin.com//6.6.5//EN
BEGIN:VEVENT
UID:0-647@loudandlocal.me
DTSTART;TZID=America/New_York:20260407T150000
DTEND;TZID=America/New_York:20260430T180000
DTSTAMP:20260420T161901Z
URL:https://loudandlocal.me/events/happy-hour-at-the-allagash-bungalow-2/
SUMMARY:Happy Hour at The Allagash Bungalow
DESCRIPTION:Every Tuesday-Thursday we offer $1 off all full draft pours\, i
 ncluding beer\, wine\, cider\, and cocktails\, between 3pm and 6pm. For al
 l of your snacking needs during this time\, our friends at Bite Into Maine
  have $5 Curieux beer cheese fries and $5 pork dumplings. RSVPs aren't req
 uired\, but will earn you a high five!\nThis is a Weekly Recurring Event\n
 Runs from Apr 7\, 2026 to Apr 30\, 2026 and happens every:\n\n\n\nTuesdays
 :\n3:00pm - 6:00pm Timezone: Eastern Time (US &amp\; Canada)\n\n\nWednesda
 ys:\n3:00pm - 6:00pm Timezone: Eastern Time (US &amp\; Canada)\n\n\nThursd
 ays:\n3:00pm - 6:00pm Timezone: Eastern Time (US &amp\; Canada)\n\n\n
ATTACH;FMTTYPE=image/jpeg:https://loudandlocal.me/wp-content/uploads/sites
 /8/2026/04/HAPPY-HOUR-1.png
LOCATION:The Allagash Bungalow Scarborough\, 10 Market St\, Scarborough\, M
 aine\, 04074\, Southern Maine\, United States
X-APPLE-STRUCTURED-LOCATION;VALUE=URI;X-ADDRESS=10 Market St\, Scarborough\
 , Maine\, 04074\, Southern Maine\, United States;X-APPLE-RADIUS=100;X-TITL
 E=The Allagash Bungalow Scarborough:geo:0,0
END:VEVENT
BEGIN:VTIMEZONE
TZID:America/New_York
X-LIC-LOCATION:America/New_York
BEGIN:DAYLIGHT
DTSTART:20260308T030000
TZOFFSETFROM:-0500
TZOFFSETTO:-0400
TZNAME:EDT
END:DAYLIGHT
END:VTIMEZONE
END:VCALENDAR