BEGIN:VCALENDAR
VERSION:2.0
PRODID:-//wp-events-plugin.com//6.6.5//EN
BEGIN:VEVENT
UID:0-607@loudandlocal.me
DTSTART;TZID=America/New_York:20260309T173000
DTEND;TZID=America/New_York:20260309T193000
DTSTAMP:20260304T152318Z
URL:https://loudandlocal.me/events/maine-historical-societys-history-happy
 -hour/
SUMMARY:Maine Historical Society's History Happy Hour
DESCRIPTION:Calling all history buffs!\nDo your coworkers’ eyes glaze ove
 r when you bring up the Teapot Dome scandal? Are you looking for a social 
 circle where people won’t avoid eye contact when you mention the 1849 go
 ld rush\, Francis Perkins or your favorite hobby of Civil War reenacting? 
 Do you enjoy the camaraderie and fun of Portland’s culinary scene? Join 
 Maine Historical Society’s Audience Engagement Director\, Lauren Webster
 \, for an entirely informal opportunity to socialize and converse. In Marc
 h\, we’ll meet at The Marquis De Lafayette\, 150 Park Street\, Portland\
 , to mingle\, hang out\, and chat a little history! Hope to see you there!
 \nOur History Happy Hour offerings are held on the second Monday of every 
 month at a different establishment in greater Portland from 5:30–7:30 p.
 m.
ATTACH;FMTTYPE=image/jpeg:https://loudandlocal.me/wp-content/uploads/sites
 /8/2026/03/Lnl-26.png
LOCATION:The Marquis De Lafayette\, 150 Park Street\, Portland\, ME\, 04101
 \, United States
X-APPLE-STRUCTURED-LOCATION;VALUE=URI;X-ADDRESS=150 Park Street\, Portland\
 , ME\, 04101\, United States;X-APPLE-RADIUS=100;X-TITLE=The Marquis De Laf
 ayette:geo:0,0
END:VEVENT
BEGIN:VTIMEZONE
TZID:America/New_York
X-LIC-LOCATION:America/New_York
BEGIN:DAYLIGHT
DTSTART:20260308T030000
TZOFFSETFROM:-0500
TZOFFSETTO:-0400
TZNAME:EDT
END:DAYLIGHT
END:VTIMEZONE
END:VCALENDAR