BEGIN:VCALENDAR
VERSION:2.0
PRODID:-//wp-events-plugin.com//6.6.5//EN
BEGIN:VEVENT
UID:0-655@loudandlocal.me
DTSTART;TZID=America/New_York:20260503T120000
DTEND;TZID=America/New_York:20260503T160000
DTSTAMP:20260420T131527Z
URL:https://loudandlocal.me/events/mothers-day-mini-van-market-at-the-alla
 gash-bungalow/
SUMMARY:Mother's Day Mini-Van Market at The Allagash Bungalow
DESCRIPTION:Join us on Sunday\, May 3rd from 12-4 pm for a ‘Mini-Van’ m
 arket with moms in mind! Shop a mini market of 11 great vendors while enjo
 ying great drinks and food at The Allagash Bungalow Hosted by Caravan Arti
 st Markets All are welcome!
ATTACH;FMTTYPE=image/jpeg:https://loudandlocal.me/wp-content/uploads/sites
 /8/2026/04/mom-market-1-1.png
LOCATION:The Allagash Bungalow Scarborough\, 10 Market St\, Scarborough\, M
 aine\, 04074\, Southern Maine\, United States
X-APPLE-STRUCTURED-LOCATION;VALUE=URI;X-ADDRESS=10 Market St\, Scarborough\
 , Maine\, 04074\, Southern Maine\, United States;X-APPLE-RADIUS=100;X-TITL
 E=The Allagash Bungalow Scarborough:geo:0,0
END:VEVENT
BEGIN:VTIMEZONE
TZID:America/New_York
X-LIC-LOCATION:America/New_York
BEGIN:DAYLIGHT
DTSTART:20260308T030000
TZOFFSETFROM:-0500
TZOFFSETTO:-0400
TZNAME:EDT
END:DAYLIGHT
END:VTIMEZONE
END:VCALENDAR