BEGIN:VCALENDAR
VERSION:2.0
PRODID:-//wp-events-plugin.com//6.6.5//EN
BEGIN:VEVENT
UID:0-550@loudandlocal.me
DTSTART;TZID=America/New_York:20260226T090000
DTEND;TZID=America/New_York:20260507T120000
DTSTAMP:20251203T172457Z
URL:https://loudandlocal.me/events/portlands-history-docents/
SUMMARY:Portland's History Docents
DESCRIPTION:Interested in local history?  Want to meet new people while gi
 ving back to your community?\n\nBecome a Portland History Docent!   Our 
 11-week program (classes on Thursday mornings) teaches folks all about loc
 al history\, as well as guiding techniques-all with an eye towards finding
  volunteers for our 11 local historic non-profits!!!\n\nWe ask graduates o
 f the program to give at least one season as a volunteer-but we hope you'l
 l have such a good time that you'll want to return year after year!  Our 
 sites in include Victoria Mansion\, Evergreen Cemetery\, the Portland Obse
 rvatory\, Maine Irish Heritage Center\, the 5th Maine Regiment Museum on P
 eaks Island\, Spring Point Ledge Lighthouse\, and more.\n\nCost of the pro
 gram is $50 which covers visits to all 11 sites as well as our terrific cl
 assroom sessions.   Please see our website for an application and schedu
 le!  PortlandHistoryDocents.org
ATTACH;FMTTYPE=image/jpeg:https://loudandlocal.me/wp-content/uploads/sites
 /8/2025/11/PHD-2025.png
END:VEVENT
BEGIN:VTIMEZONE
TZID:America/New_York
X-LIC-LOCATION:America/New_York
BEGIN:STANDARD
DTSTART:20251102T010000
TZOFFSETFROM:-0400
TZOFFSETTO:-0500
TZNAME:EST
END:STANDARD
BEGIN:DAYLIGHT
DTSTART:20260308T030000
TZOFFSETFROM:-0500
TZOFFSETTO:-0400
TZNAME:EDT
END:DAYLIGHT
END:VTIMEZONE
END:VCALENDAR