BEGIN:VCALENDAR
VERSION:2.0
PRODID:-//wp-events-plugin.com//6.6.5//EN
BEGIN:VEVENT
UID:0-660@loudandlocal.me
DTSTART;TZID=America/New_York:20260501T123000
DTEND;TZID=America/New_York:20260529T133000
DTSTAMP:20260422T134657Z
URL:https://loudandlocal.me/events/signature-beer-barrels-experience-9/
SUMMARY:Signature Beer &amp\; Barrels Experience
DESCRIPTION:Sample a variety of seasonal specialty beers while enjoying the
  incredible ambiance of The Cellars at Allagash\, our wild and sour barrel
  aging space. If you are looking for a traditional brewery tour\, check ou
 t our "\n\nThe highlights:\n\n6 samples\n60 minutes\nIn-depth barrel room 
 exploration and chance to see the Coolship\n$38 before tax/fees\n21+\n\nPl
 ease read on before booking:\n\nTour-goers must be 21 or older. Infant-wea
 ring is welcome - the tour path through our manufacturing plant is not sui
 table for young children or strollers.\n\nGuests who are not drinking beer
  can purchase a Designated Driver ticket and will have a choice of NA beve
 rage.\n\nDogs are not allowed on this manufacturing plant tour.
ATTACH;FMTTYPE=image/jpeg:https://loudandlocal.me/wp-content/uploads/sites
 /8/2026/04/signature-1.png
LOCATION:The Cellars at Allagash Brewing Company\, 100 Industrial Wy\, Port
 land\, ME\, 04103\, United States
X-APPLE-STRUCTURED-LOCATION;VALUE=URI;X-ADDRESS=100 Industrial Wy\, Portlan
 d\, ME\, 04103\, United States;X-APPLE-RADIUS=100;X-TITLE=The Cellars at A
 llagash Brewing Company:geo:0,0
END:VEVENT
BEGIN:VTIMEZONE
TZID:America/New_York
X-LIC-LOCATION:America/New_York
BEGIN:DAYLIGHT
DTSTART:20260308T030000
TZOFFSETFROM:-0500
TZOFFSETTO:-0400
TZNAME:EDT
END:DAYLIGHT
END:VTIMEZONE
END:VCALENDAR